BEGIN:VCALENDAR
VERSION:2.0
PRODID:-//TYPO3/NONSGML Calendarize//EN
BEGIN:VEVENT
UID:calendarize-default-f32003eaa5
DTSTAMP:20260420T164322Z
DTSTART:20260424T140000Z
SUMMARY:Klimastreik
DESCRIPTION:
X-ALT-DESC;FMTTYPE=text/html:
LOCATION:Kassel Hbf
END:VEVENT
END:VCALENDAR
