BEGIN:VCALENDAR
VERSION:2.0
PRODID:-//TYPO3/NONSGML Calendarize//EN
BEGIN:VEVENT
UID:calendarize-in-planung-veranstaltung-mit-mdl-stefan-christ-zum-thema-m
 obilitaet
DTSTAMP:20260425T110639Z
DTSTART:20260604T170000Z
SUMMARY:In Planung Veranstaltung mit MdL Stefan Christ zum Thema Mobilitä
 t
DESCRIPTION:
X-ALT-DESC;FMTTYPE=text/html:
LOCATION:
END:VEVENT
END:VCALENDAR
